BEGIN:VCALENDAR
VERSION:2.0
PRODID:icalendar-ruby
CALSCALE:GREGORIAN
METHOD:PUBLISH
BEGIN:VEVENT
DTSTAMP:20260421T053646Z
UID:85-996610@emmanuelchristian.com
DTSTART:20261014T210000Z
DTEND:20261014T220000Z
CLASS:PUBLIC
CREATED:20260420T202938
DESCRIPTION:Prayer Night is every Wednesday at 6 p.m. All is welcome!
LAST-MODIFIED:20260420T202938
LOCATION:Emmanuel Christian Church
SUMMARY:Prayer Night
URL;VALUE=URI:https://www.emmanuelchristian.com/events/prayer-night/2026-10
 -14
ATTACH;FILENAME=Prayer%2BNight.jpg;FMTTYPE=image/jpeg:https://dq5pwpg1q8ru0
 .cloudfront.net/2025/07/15/17/26/48/f0033962-f662-4094-a808-fd4f9879225d/P
 rayer%252BNight.jpg
END:VEVENT
END:VCALENDAR
